BEGIN:VCALENDAR
PRODID:-//bullianglican.org.au//EN
VERSION:2.0
METHOD:PUBLISH
BEGIN:VEVENT
DTSTART;TZID=America/New_York:20140726T160000
DTEND;TZID=America/New_York:20151221T180000
URL:https://bullianglican.org.au/about-us/calendar/the-peak/
SUMMARY:The Peak
LOCATION:
DESCRIPTION:Visit The Peak page for details.
END:VEVENT
END:VCALENDAR